BEGIN:VCALENDAR
VERSION:2.0
PRODID:-//Mimi&#039;s Mission - ECPv6.15.20//NONSGML v1.0//EN
CALSCALE:GREGORIAN
METHOD:PUBLISH
X-ORIGINAL-URL:https://mimismission.com
X-WR-CALDESC:Events for Mimi&#039;s Mission
REFRESH-INTERVAL;VALUE=DURATION:PT1H
X-Robots-Tag:noindex
X-PUBLISHED-TTL:PT1H
BEGIN:VTIMEZONE
TZID:America/Detroit
BEGIN:DAYLIGHT
TZOFFSETFROM:-0500
TZOFFSETTO:-0400
TZNAME:EDT
DTSTART:20230312T070000
END:DAYLIGHT
BEGIN:STANDARD
TZOFFSETFROM:-0400
TZOFFSETTO:-0500
TZNAME:EST
DTSTART:20231105T060000
END:STANDARD
BEGIN:DAYLIGHT
TZOFFSETFROM:-0500
TZOFFSETTO:-0400
TZNAME:EDT
DTSTART:20240310T070000
END:DAYLIGHT
BEGIN:STANDARD
TZOFFSETFROM:-0400
TZOFFSETTO:-0500
TZNAME:EST
DTSTART:20241103T060000
END:STANDARD
BEGIN:DAYLIGHT
TZOFFSETFROM:-0500
TZOFFSETTO:-0400
TZNAME:EDT
DTSTART:20250309T070000
END:DAYLIGHT
BEGIN:STANDARD
TZOFFSETFROM:-0400
TZOFFSETTO:-0500
TZNAME:EST
DTSTART:20251102T060000
END:STANDARD
END:VTIMEZONE
BEGIN:VEVENT
DTSTART;TZID=America/Detroit:20241109T170000
DTEND;TZID=America/Detroit:20241109T210000
DTSTAMP:20260424T140658
CREATED:20240627T234455Z
LAST-MODIFIED:20240908T120901Z
UID:16995-1731171600-1731186000@mimismission.com
SUMMARY:Music Bingo
DESCRIPTION:Join us for a fun filled night of music bingo and awesome prizes.  We will have many raffle items\, pull tabs and more.Food and cash bar will be available through Sophia’s.  All proceeds will benefit Mimi’s Mission \, a nonprofit that helps autistic children and their families.   Big thanks to Sophia’s Banquet Center GrizzlysWyandotte- Downriver Music Bingo – and all of our supporters.  Get your tickets at Eventbrite at the link belowhttps://www.eventbrite.com/e/mimis-mission-music-bingo-tickets-976869281317 \n\n\n\nPlease help us share this event…  <3 \n\n\n\n\nTickets at eventbrite
URL:https://mimismission.com/event/music-bingo/
LOCATION:Sophia’s Banquet Hall\, 1519 Oak St.\, Wyandotte\, Michigan\, 48192\, United States
END:VEVENT
END:VCALENDAR