BEGIN:VCALENDAR
VERSION:2.0
PRODID:-//Mimi&#039;s Mission - ECPv6.15.20//NONSGML v1.0//EN
CALSCALE:GREGORIAN
METHOD:PUBLISH
X-WR-CALNAME:Mimi&#039;s Mission
X-ORIGINAL-URL:https://mimismission.com
X-WR-CALDESC:Events for Mimi&#039;s Mission
REFRESH-INTERVAL;VALUE=DURATION:PT1H
X-Robots-Tag:noindex
X-PUBLISHED-TTL:PT1H
BEGIN:VTIMEZONE
TZID:America/Detroit
BEGIN:DAYLIGHT
TZOFFSETFROM:-0500
TZOFFSETTO:-0400
TZNAME:EDT
DTSTART:20250309T070000
END:DAYLIGHT
BEGIN:STANDARD
TZOFFSETFROM:-0400
TZOFFSETTO:-0500
TZNAME:EST
DTSTART:20251102T060000
END:STANDARD
BEGIN:DAYLIGHT
TZOFFSETFROM:-0500
TZOFFSETTO:-0400
TZNAME:EDT
DTSTART:20260308T070000
END:DAYLIGHT
BEGIN:STANDARD
TZOFFSETFROM:-0400
TZOFFSETTO:-0500
TZNAME:EST
DTSTART:20261101T060000
END:STANDARD
BEGIN:DAYLIGHT
TZOFFSETFROM:-0500
TZOFFSETTO:-0400
TZNAME:EDT
DTSTART:20270314T070000
END:DAYLIGHT
BEGIN:STANDARD
TZOFFSETFROM:-0400
TZOFFSETTO:-0500
TZNAME:EST
DTSTART:20271107T060000
END:STANDARD
END:VTIMEZONE
BEGIN:VEVENT
DTSTART;TZID=America/Detroit:20260110T150000
DTEND;TZID=America/Detroit:20260110T170000
DTSTAMP:20260423T173913
CREATED:20260101T055211Z
LAST-MODIFIED:20260106T160551Z
UID:20772-1768057200-1768064400@mimismission.com
SUMMARY:Swim Time At Flat Rock
DESCRIPTION:Swim Time For 150 People \n\n\n\nTo Sign Up:  Comment on the facebook event\, how many family members and caregivers will be joining us- F4-CG1.You must fill out your annual enrollment application on the website. If your child does not know how to swim you MUST join them in the pool. A parent must be present at the event  \n\n\n\nEnsure that you have filled out the waiver and your annual enrollment has been accepted.You should receive an invitation if you are invited.  \n\n\n\nFill Out Annual Enrollment Form\n\n\n\n\n\n*Only Complete Payment If You Have Been Confirmed and Accepted by Mimi’s Mission. \n\n\n\nComplete Entry Fee\n\n\n\n\n\n\n  \n    Museum of Illusions\n    1545 Woodward Ave \n    Detroit\, Michigan 48226 \n    United States \n\n    \n      \n        + Google Map
URL:https://mimismission.com/event/swimtime0110/
LOCATION:Flat Rock Recreation Center\, 1 Maguire St\, Flat Rock\, Michigan\, 48134\, United States
CATEGORIES:Community Event
ATTACH;FMTTYPE=image/png:https://mimismission.com/wp-content/uploads/2026/01/family-time.png
END:VEVENT
END:VCALENDAR