BEGIN:VCALENDAR
VERSION:2.0
PRODID:-//Mimi&#039;s Mission - ECPv6.15.20//NONSGML v1.0//EN
CALSCALE:GREGORIAN
METHOD:PUBLISH
X-WR-CALNAME:Mimi&#039;s Mission
X-ORIGINAL-URL:https://mimismission.com
X-WR-CALDESC:Events for Mimi&#039;s Mission
REFRESH-INTERVAL;VALUE=DURATION:PT1H
X-Robots-Tag:noindex
X-PUBLISHED-TTL:PT1H
BEGIN:VTIMEZONE
TZID:America/Detroit
BEGIN:DAYLIGHT
TZOFFSETFROM:-0500
TZOFFSETTO:-0400
TZNAME:EDT
DTSTART:20250309T070000
END:DAYLIGHT
BEGIN:STANDARD
TZOFFSETFROM:-0400
TZOFFSETTO:-0500
TZNAME:EST
DTSTART:20251102T060000
END:STANDARD
BEGIN:DAYLIGHT
TZOFFSETFROM:-0500
TZOFFSETTO:-0400
TZNAME:EDT
DTSTART:20260308T070000
END:DAYLIGHT
BEGIN:STANDARD
TZOFFSETFROM:-0400
TZOFFSETTO:-0500
TZNAME:EST
DTSTART:20261101T060000
END:STANDARD
BEGIN:DAYLIGHT
TZOFFSETFROM:-0500
TZOFFSETTO:-0400
TZNAME:EDT
DTSTART:20270314T070000
END:DAYLIGHT
BEGIN:STANDARD
TZOFFSETFROM:-0400
TZOFFSETTO:-0500
TZNAME:EST
DTSTART:20271107T060000
END:STANDARD
END:VTIMEZONE
BEGIN:VEVENT
DTSTART;TZID=America/Detroit:20260329T100000
DTEND;TZID=America/Detroit:20260329T120000
DTSTAMP:20260423T141850
CREATED:20260204T151816Z
LAST-MODIFIED:20260304T010748Z
UID:21151-1774778400-1774785600@mimismission.com
SUMMARY:Family Swim Events!
DESCRIPTION:If you would like to sponsor this event\, click here\n\n\n\n\n\n\n\n\n\n\n\nFamily Swim Events \n\n\n\n\n\n\n\n\n\nFill Out Annual Enrollment Form\n\n\n\nComplete Entry Fee\n\n\n\n\n\n\n\nJoin Mimi’s Mission for a Family Swim Event at the Flat Rock Community Center. Families are invited to enjoy a fun and relaxing morning in the pool with other Mimi’s Mission members. It is a great opportunity for kids to swim\, play\, and spend time together in a safe and welcoming environment.The event will take place on March 29 from 10:00 AM to 12:00 PM at the Flat Rock Community Center in Flat Rock\, Michigan.How to Sign Up1. Complete the Annual Enrollment Form if you have not already submitted it for the current year.2. After your application is complete\, visit Eventbrite to receive your tickets.We look forward to seeing families come together for a fun morning at the pool!
URL:https://mimismission.com/event/family-swim-events-2/
LOCATION:Flat Rock Community Center\, 1 Maguire St\, Flat Rock\, MI\, 48134\, United States
CATEGORIES:Community Event
ATTACH;FMTTYPE=image/webp:https://mimismission.com/wp-content/uploads/2026/01/b3005e9a-5d8a-437d-bdb4-62a370abab8a.webp
END:VEVENT
END:VCALENDAR