BEGIN:VCALENDAR
VERSION:2.0
PRODID:-//Mimi&#039;s Mission - ECPv6.15.20//NONSGML v1.0//EN
CALSCALE:GREGORIAN
METHOD:PUBLISH
X-ORIGINAL-URL:https://mimismission.com
X-WR-CALDESC:Events for Mimi&#039;s Mission
REFRESH-INTERVAL;VALUE=DURATION:PT1H
X-Robots-Tag:noindex
X-PUBLISHED-TTL:PT1H
BEGIN:VTIMEZONE
TZID:America/Detroit
BEGIN:DAYLIGHT
TZOFFSETFROM:-0500
TZOFFSETTO:-0400
TZNAME:EDT
DTSTART:20250309T070000
END:DAYLIGHT
BEGIN:STANDARD
TZOFFSETFROM:-0400
TZOFFSETTO:-0500
TZNAME:EST
DTSTART:20251102T060000
END:STANDARD
BEGIN:DAYLIGHT
TZOFFSETFROM:-0500
TZOFFSETTO:-0400
TZNAME:EDT
DTSTART:20260308T070000
END:DAYLIGHT
BEGIN:STANDARD
TZOFFSETFROM:-0400
TZOFFSETTO:-0500
TZNAME:EST
DTSTART:20261101T060000
END:STANDARD
BEGIN:DAYLIGHT
TZOFFSETFROM:-0500
TZOFFSETTO:-0400
TZNAME:EDT
DTSTART:20270314T070000
END:DAYLIGHT
BEGIN:STANDARD
TZOFFSETFROM:-0400
TZOFFSETTO:-0500
TZNAME:EST
DTSTART:20271107T060000
END:STANDARD
END:VTIMEZONE
BEGIN:VEVENT
DTSTART;TZID=America/Detroit:20260412T103000
DTEND;TZID=America/Detroit:20260412T120000
DTSTAMP:20260423T161501
CREATED:20260302T005227Z
LAST-MODIFIED:20260313T141500Z
UID:21378-1775989800-1775995200@mimismission.com
SUMMARY:Sensory Friendly Super Mario Movie! (Sold Out)
DESCRIPTION:If you would like to sponsor this event\, click here\n\n\n\n\n\n\n\n\n\n\n\nSensory Friendly Super Mario Movie \n\n\n\n\n\n\n\n\n\nFill Out Annual Enrollment Form\n\n\n\nSold Out\n\n\n\n\n\n\n\nJoin Mimi’s Mission for a Sensory Friendly showing of the Super Mario Movie. This special event is designed to create a comfortable movie experience for children and families who benefit from a sensory friendly environment.During this showing\, house lights will remain brighter and the volume will be lowered to help create a more comfortable viewing experience. Families are also welcome to bring personal comfort items or food for children with dietary restrictions.The event will take place on April 12 from 10:30 AM to 12:00 PM and is open to Mimi’s Mission families.How to Sign Up1. Complete the Annual Enrollment Form if you have not already submitted it for the current year.2. After your application is complete\, visit Eventbrite to receive your tickets.We look forward to enjoying a fun and welcoming movie experience together!
URL:https://mimismission.com/event/sensory-friendly-super-mario-movie/
LOCATION:Flat Rock Community Center\, 1 Maguire St\, Flat Rock\, MI\, 48134\, United States
CATEGORIES:Community Event
ATTACH;FMTTYPE=image/webp:https://mimismission.com/wp-content/uploads/2026/01/Mario-Movie.webp
END:VEVENT
BEGIN:VEVENT
DTSTART;TZID=America/Detroit:20260426T100000
DTEND;TZID=America/Detroit:20260426T120000
DTSTAMP:20260423T161501
CREATED:20260302T003916Z
LAST-MODIFIED:20260309T151948Z
UID:21364-1777197600-1777204800@mimismission.com
SUMMARY:Family Swim Events!
DESCRIPTION:If you would like to sponsor this event\, click here\n\n\n\n\n\n\n\n\n\n\n\nFamily Swim Events \n\n\n\n\n\n\n\n\n\nFill Out Annual Enrollment Form\n\n\n\nComplete Entry Fee\n\n\n\n\n\n\n\nJoin Mimi’s Mission for a Family Swim Event at the Flat Rock Community Center. Families are invited to enjoy a fun and relaxing morning in the pool with other Mimi’s Mission members. It is a great opportunity for kids to swim\, play\, and spend time together in a safe and welcoming environment.The event will take place on April 26 from 10:00 AM to 12:00 PM at the Flat Rock Community Center in Flat Rock\, Michigan.How to Sign Up1. Complete the Annual Enrollment Form if you have not already submitted it for the current year.2. After your application is complete\, visit Eventbrite to receive your tickets.We look forward to seeing families come together for a fun morning at the pool!
URL:https://mimismission.com/event/family-swim-events-5/
LOCATION:Flat Rock Community Center\, 1 Maguire St\, Flat Rock\, MI\, 48134\, United States
CATEGORIES:Community Event
ATTACH;FMTTYPE=image/webp:https://mimismission.com/wp-content/uploads/2026/01/b3005e9a-5d8a-437d-bdb4-62a370abab8a.webp
END:VEVENT
BEGIN:VEVENT
DTSTART;TZID=America/Detroit:20260531T100000
DTEND;TZID=America/Detroit:20260531T120000
DTSTAMP:20260423T161501
CREATED:20260302T004015Z
LAST-MODIFIED:20260309T151119Z
UID:21370-1780221600-1780228800@mimismission.com
SUMMARY:Family Swim Events!
DESCRIPTION:If you would like to sponsor this event\, click here\n\n\n\n\n\n\n\n\n\n\n\nFamily Swim Events \n\n\n\n\n\n\n\n\n\nFill Out Annual Enrollment Form\n\n\n\nComplete Entry Fee\n\n\n\n\n\n\n\nJoin Mimi’s Mission for a Family Swim Event at the Flat Rock Community Center. Families are invited to enjoy a fun and relaxing morning in the pool with other Mimi’s Mission members. It is a great opportunity for kids to swim\, play\, and spend time together in a safe and welcoming environment.The event will take place on May 31 from 10:00 AM to 12:00 PM at the Flat Rock Community Center in Flat Rock\, Michigan.How to Sign Up1. Complete the Annual Enrollment Form if you have not already submitted it for the current year.2. After your application is complete\, visit Eventbrite to receive your tickets.We look forward to seeing families come together for a fun morning at the pool!
URL:https://mimismission.com/event/family-swim-events-3/
LOCATION:Flat Rock Community Center\, 1 Maguire St\, Flat Rock\, MI\, 48134\, United States
CATEGORIES:Community Event
ATTACH;FMTTYPE=image/webp:https://mimismission.com/wp-content/uploads/2026/01/b3005e9a-5d8a-437d-bdb4-62a370abab8a.webp
END:VEVENT
BEGIN:VEVENT
DTSTART;TZID=America/Detroit:20260719T080000
DTEND;TZID=America/Detroit:20260719T160000
DTSTAMP:20260423T161502
CREATED:20260401T181945Z
LAST-MODIFIED:20260401T182153Z
UID:22096-1784448000-1784476800@mimismission.com
SUMMARY:2026 Annual Golf for Autism Scramble
DESCRIPTION:
URL:https://mimismission.com/event/annual-golf-scramble-for-autism-2026/
LOCATION:Whispering Willows Golf Course\, 20500 Newburgh Rd\, Livonia\, Michigan\, 48152\, United States
CATEGORIES:Fundraisers
ATTACH;FMTTYPE=image/webp:https://mimismission.com/wp-content/uploads/2026/04/annualgolfscramble.webp
END:VEVENT
BEGIN:VEVENT
DTSTART;TZID=America/Detroit:20260920T120000
DTEND;TZID=America/Detroit:20260920T150000
DTSTAMP:20260423T161502
CREATED:20260204T183619Z
LAST-MODIFIED:20260414T072720Z
UID:21171-1789905600-1789916400@mimismission.com
SUMMARY:Hero Walk for Autism
DESCRIPTION:
URL:https://mimismission.com/event/hero-walk-for-autism-save-the-date/
LOCATION:Michigan
CATEGORIES:Community Event
ATTACH;FMTTYPE=image/png:https://mimismission.com/wp-content/uploads/2026/02/Save-the-date-3.png
END:VEVENT
BEGIN:VEVENT
DTSTART;TZID=America/Detroit:20261128T100000
DTEND;TZID=America/Detroit:20261128T120000
DTSTAMP:20260423T161502
CREATED:20260412T211854Z
LAST-MODIFIED:20260412T211857Z
UID:33431-1795860000-1795867200@mimismission.com
SUMMARY:Museum of Illusions with Mimi's Mission
DESCRIPTION:If you would like to sponsor this event\, click here\n\n\n\n\n\n\n\n\n\n\n\nMuseum of Illusions with Mimi’s Mission \n\n\n\n\n\n\n\n\n\nFill Out Annual Enrollment Form\n\n\n\nComplete Entry Fee\n\n\n\n\n\n\n\nDive into mind-bending illusions and join Mimi’s Mission for a day full of fun and surprises you won’t forget! *Private for Mimi’s Families
URL:https://mimismission.com/event/museum-of-illusions-with-mimis-mission/
LOCATION:Museum of Illusions\, 1545 Woodward Ave\, Detroit\, Michigan\, 48226\, United States
CATEGORIES:Community Event
ATTACH;FMTTYPE=image/webp:https://mimismission.com/wp-content/uploads/2026/04/museumofillusions.webp
END:VEVENT
END:VCALENDAR