BEGIN:VCALENDAR
VERSION:2.0
PRODID:-//Mimi&#039;s Mission - ECPv6.15.20//NONSGML v1.0//EN
CALSCALE:GREGORIAN
METHOD:PUBLISH
X-WR-CALNAME:Mimi&#039;s Mission
X-ORIGINAL-URL:https://mimismission.com
X-WR-CALDESC:Events for Mimi&#039;s Mission
REFRESH-INTERVAL;VALUE=DURATION:PT1H
X-Robots-Tag:noindex
X-PUBLISHED-TTL:PT1H
BEGIN:VTIMEZONE
TZID:America/Detroit
BEGIN:DAYLIGHT
TZOFFSETFROM:-0500
TZOFFSETTO:-0400
TZNAME:EDT
DTSTART:20230312T070000
END:DAYLIGHT
BEGIN:STANDARD
TZOFFSETFROM:-0400
TZOFFSETTO:-0500
TZNAME:EST
DTSTART:20231105T060000
END:STANDARD
BEGIN:DAYLIGHT
TZOFFSETFROM:-0500
TZOFFSETTO:-0400
TZNAME:EDT
DTSTART:20240310T070000
END:DAYLIGHT
BEGIN:STANDARD
TZOFFSETFROM:-0400
TZOFFSETTO:-0500
TZNAME:EST
DTSTART:20241103T060000
END:STANDARD
BEGIN:DAYLIGHT
TZOFFSETFROM:-0500
TZOFFSETTO:-0400
TZNAME:EDT
DTSTART:20250309T070000
END:DAYLIGHT
BEGIN:STANDARD
TZOFFSETFROM:-0400
TZOFFSETTO:-0500
TZNAME:EST
DTSTART:20251102T060000
END:STANDARD
END:VTIMEZONE
BEGIN:VEVENT
DTSTART;TZID=America/Detroit:20240908T120000
DTEND;TZID=America/Detroit:20240908T150000
DTSTAMP:20260424T154218
CREATED:20240418T165302Z
LAST-MODIFIED:20240904T042058Z
UID:16788-1725796800-1725807600@mimismission.com
SUMMARY:Hero Walk for Autism
DESCRIPTION:Join us for  fun filled afternoon in the park- beginning with a one mile walk around the park that will be filled with surprises along the way. Every participant will receive a medal\, hot dog & chips lunch\, water\, frozen treat\, popcorn\, cotton candy. Our favorite caricatures will be there too visit and take pictures with you. There will be bounce houses \,arts & crafts as well as games and balloons. The splash pad will be open for your littles too. There will be corn hole games for the bigger kiddos too. We will have a photo booth and multiple caricature artists so you can take a great fun filled family portrait home. Bring your towels for the final finale foam party!!!!!!  \n\n\n\nPlease note that signups will end on September 3rd!! \n\n\n\n *Everything listed is included in the cost of the wristband except the bake sale..
URL:https://mimismission.com/event/hero-walk-for-autism-2/
LOCATION:Michigan
END:VEVENT
BEGIN:VEVENT
DTSTART;TZID=America/Detroit:20240930T170000
DTEND;TZID=America/Detroit:20240930T190000
DTSTAMP:20260424T154218
CREATED:20240830T141729Z
LAST-MODIFIED:20240831T143502Z
UID:17339-1727715600-1727722800@mimismission.com
SUMMARY:Autism Optimism ~ Introduction Class
DESCRIPTION:New diagnosis? Searching for solutions? \n\n\n\nConfused by therapies and options? \n\n\n\nYou are not alone! \n\n\n\nOur Autism Optimism workshop can help! \n\n\n\nThe workshop helps to clarify the clinical diagnosis and see both hope and solutions. We share tools to help your autistic loved one regulate their emotions and behavior. \n\n\n\n***You must register for this class to attend***  \n\n\n\nMimi’s Mission 20050 Vreeland Rd Woodhaven \n\n\n\nAfter the class you will receive a weighted blanket\, decal and noise reducing headphones for your child. \n\n\n\nBoth parents and extended family members are encouraged to attend \n\n\n\nADULTS ONLY- NO CHILD CARE PROVIDED \n\n\n\n\nSign Up here!
URL:https://mimismission.com/event/autism-optimism-2/
LOCATION:Michigan
END:VEVENT
END:VCALENDAR