BEGIN:VCALENDAR
VERSION:2.0
PRODID:-//Mimi&#039;s Mission - ECPv6.15.20//NONSGML v1.0//EN
CALSCALE:GREGORIAN
METHOD:PUBLISH
X-ORIGINAL-URL:https://mimismission.com
X-WR-CALDESC:Events for Mimi&#039;s Mission
REFRESH-INTERVAL;VALUE=DURATION:PT1H
X-Robots-Tag:noindex
X-PUBLISHED-TTL:PT1H
BEGIN:VTIMEZONE
TZID:America/Detroit
BEGIN:DAYLIGHT
TZOFFSETFROM:-0500
TZOFFSETTO:-0400
TZNAME:EDT
DTSTART:20240310T070000
END:DAYLIGHT
BEGIN:STANDARD
TZOFFSETFROM:-0400
TZOFFSETTO:-0500
TZNAME:EST
DTSTART:20241103T060000
END:STANDARD
BEGIN:DAYLIGHT
TZOFFSETFROM:-0500
TZOFFSETTO:-0400
TZNAME:EDT
DTSTART:20250309T070000
END:DAYLIGHT
BEGIN:STANDARD
TZOFFSETFROM:-0400
TZOFFSETTO:-0500
TZNAME:EST
DTSTART:20251102T060000
END:STANDARD
BEGIN:DAYLIGHT
TZOFFSETFROM:-0500
TZOFFSETTO:-0400
TZNAME:EDT
DTSTART:20260308T070000
END:DAYLIGHT
BEGIN:STANDARD
TZOFFSETFROM:-0400
TZOFFSETTO:-0500
TZNAME:EST
DTSTART:20261101T060000
END:STANDARD
END:VTIMEZONE
BEGIN:VEVENT
DTSTART;TZID=America/Detroit:20250517T170000
DTEND;TZID=America/Detroit:20250517T210000
DTSTAMP:20260424T032046
CREATED:20250224T204912Z
LAST-MODIFIED:20250516T002408Z
UID:17983-1747501200-1747515600@mimismission.com
SUMMARY:Mimi's Mission's 10th Anniversary Celebration
DESCRIPTION:Join us for dinner and a live auction. \n\n\n\nTickets on sale March 10th \n\n\n\n\n\n\n\n\n\nAgenda\n\n\n\n5:00 to 5:30 PM ~ Registration and cocktails \n\n\n\n5:30 to 6:30 PM ~ Dinner is served. \n\n\n\n7:00 to 9:00 PM ~ Live auction begins. \n\n\n\n\n\n\n\n\n\n\n\nHighlights\n\n\n\nAges 21+ \n\n\n\nIn person \n\n\n\nFree venue parking \n\n\n\n\n\nRefund Policy\n\n\n\nNo Refunds \n\n\n\n\n\nDress Code\n\n\n\nBusiness Casual \n\n\n\n\n\n\n\n\n\nMenu\n\n\n\n\n\n\nBroasted Chicken \n\n\n\n\nCavatappi w/Marinara \n\n\n\nBaked Potato Bar \n\n\n\nGreen Beans \n\n\n\n\n\n\n\n\nSalad  \n\n\n\nRolls  \n\n\n\nDessert table   \n\n\n\nCoffee / Tea \n\n\n\n\n\n\n\n\n\n\n\n\nTicket Sales are complete Thank You!
URL:https://mimismission.com/event/mimis-missions-10th-anniversary-celebration/
LOCATION:The Waterfront\, 507 Biddle Ave\, Wyandotte\, MI\, 48192\, United States
ATTACH;FMTTYPE=image/png:https://mimismission.com/wp-content/uploads/2025/03/10_anniversary.png
END:VEVENT
END:VCALENDAR