BEGIN:VCALENDAR
VERSION:2.0
PRODID:-//Mimi&#039;s Mission - ECPv6.15.20//NONSGML v1.0//EN
CALSCALE:GREGORIAN
METHOD:PUBLISH
X-WR-CALNAME:Mimi&#039;s Mission
X-ORIGINAL-URL:https://mimismission.com
X-WR-CALDESC:Events for Mimi&#039;s Mission
REFRESH-INTERVAL;VALUE=DURATION:PT1H
X-Robots-Tag:noindex
X-PUBLISHED-TTL:PT1H
BEGIN:VTIMEZONE
TZID:America/Detroit
BEGIN:DAYLIGHT
TZOFFSETFROM:-0500
TZOFFSETTO:-0400
TZNAME:EDT
DTSTART:20250309T070000
END:DAYLIGHT
BEGIN:STANDARD
TZOFFSETFROM:-0400
TZOFFSETTO:-0500
TZNAME:EST
DTSTART:20251102T060000
END:STANDARD
BEGIN:DAYLIGHT
TZOFFSETFROM:-0500
TZOFFSETTO:-0400
TZNAME:EDT
DTSTART:20260308T070000
END:DAYLIGHT
BEGIN:STANDARD
TZOFFSETFROM:-0400
TZOFFSETTO:-0500
TZNAME:EST
DTSTART:20261101T060000
END:STANDARD
BEGIN:DAYLIGHT
TZOFFSETFROM:-0500
TZOFFSETTO:-0400
TZNAME:EDT
DTSTART:20270314T070000
END:DAYLIGHT
BEGIN:STANDARD
TZOFFSETFROM:-0400
TZOFFSETTO:-0500
TZNAME:EST
DTSTART:20271107T060000
END:STANDARD
END:VTIMEZONE
BEGIN:VEVENT
DTSTART;TZID=America/Detroit:20260214T160000
DTEND;TZID=America/Detroit:20260214T190000
DTSTAMP:20260423T143621
CREATED:20260113T150859Z
LAST-MODIFIED:20260116T182359Z
UID:20998-1771084800-1771095600@mimismission.com
SUMMARY:2026 Dance Party
DESCRIPTION:2026  Dance Party \n\n\n\nTo Sign Up:  1. Your Annual Enrollment Application Must Be Completed Before Signing Up For This Event.2. Visit Mimi’s Mission Facebook Page (Click here for Mimi’s Facebook Page)\, then comment on the facebook event how many family members and caregivers will be joining us- F4-CG1.A parent must be present at the event.3. *Only Complete Payment If You Have Been Confirmed and Accepted by Mimi’s Mission. \n\n\n\nEnsure that you have filled out the waiver and your annual enrollment has been accepted.You should receive an invitation if you are invited.  \n\n\n\nFill Out Annual Enrollment Form\n\n\n\n\n\n*Only Complete Payment If You Have Been Confirmed and Accepted by Mimi’s Mission. \n\n\n\nComplete Entry Fee
URL:https://mimismission.com/event/2026-dance-party/
LOCATION:Downriver\, Downriver
CATEGORIES:Community Event
ATTACH;FMTTYPE=image/webp:https://mimismission.com/wp-content/uploads/2026/01/IMG_8079.webp
END:VEVENT
BEGIN:VEVENT
DTSTART;TZID=America/Detroit:20260222T100000
DTEND;TZID=America/Detroit:20260222T120000
DTSTAMP:20260423T143621
CREATED:20260116T183805Z
LAST-MODIFIED:20260127T164144Z
UID:21041-1771754400-1771761600@mimismission.com
SUMMARY:Family Swim Events!
DESCRIPTION:Family Swim Events \n\n\n\n\n\n\n\nTo Sign Up:  1. Your Annual Enrollment Application Must Be Completed Before Signing Up For This Event.2. Visit Mimi’s Mission Facebook Page (Click here for Mimi’s Facebook Page)\, then comment on the facebook event if available\, how many family members and caregivers will be joining us- F4-CG1.A parent must be present at the event.3. *Only Complete Payment If You Have Been Confirmed and Accepted by Mimi’s Mission. \n\n\n\nEnsure that you have filled out the waiver and your annual enrollment has been accepted.You should receive an invitation if you are invited.  \n\n\n\nFill Out Annual Enrollment Form\n\n\n\n\n\n*Only Complete Payment If You Have Been Confirmed and Accepted by Mimi’s Mission. \n\n\n\nComplete Entry Fee
URL:https://mimismission.com/event/family-swim-events/
LOCATION:Downriver\, Downriver
CATEGORIES:Community Event
ATTACH;FMTTYPE=image/webp:https://mimismission.com/wp-content/uploads/2026/01/IMG_8307.webp
END:VEVENT
BEGIN:VEVENT
DTSTART;TZID=America/Detroit:20260228T170000
DTEND;TZID=America/Detroit:20260228T235900
DTSTAMP:20260423T143621
CREATED:20260124T021917Z
LAST-MODIFIED:20260124T022001Z
UID:21107-1772298000-1772323140@mimismission.com
SUMMARY:Sing Along Music Bingo!
DESCRIPTION:🎶 Sing Along Music Bingo for Mimi’s Mission 🎶Join us for a night of fun\, music\, and fundraising at Sneakey’s in Woodhaven as we host Sing Along Music Bingo to support Mimi’s Mission. Instead of numbers\, you’ll sing along to your favorite songs while marking them off your bingo card. It’s interactive\, high energy\, and a great night out with friends\, all for a great cause.📍 Event DetailsLocation: Sneakey’s22301 Allen Rd\, Woodhaven\, MIDate: February 28thDoors Open: 5:00 PMBingo Begins: 6:00 PM🎟 Ticket Information$20 per personIncludes Music Bingo and Glow SticksGreat raffle items available throughout the night🪑 Table Reservations (Important)Tables are available in groups of 8 seats.To reserve a table\, all 8 tickets must be purchased in a single transaction.When all 8 tickets are purchased together\, the table will be reserved under the purchaser’s name.Individual ticket purchases do not guarantee table seating.This ensures your group is seated together for the event.🎟 Tickets must be purchased in advance through Eventbrite.Seating is limited\, so purchase early.Come sing\, play\, laugh\, and support an amazing mission. We can’t wait to see you there. \n\n\n\n\n\n\n\nPurchase Tickets
URL:https://mimismission.com/event/sing-along-music-bingo/
LOCATION:Downriver\, Downriver
CATEGORIES:Community Event
ATTACH;FMTTYPE=image/png:https://mimismission.com/wp-content/uploads/2026/01/IMG_8216.png
END:VEVENT
END:VCALENDAR